BEGIN:VCALENDAR
VERSION:2.0
PRODID:-//Professional Institute of Technology and Accounting - ECPv6.15.20//NONSGML v1.0//EN
CALSCALE:GREGORIAN
METHOD:PUBLISH
X-WR-CALNAME:Professional Institute of Technology and Accounting
X-ORIGINAL-URL:https://nvpita.com
X-WR-CALDESC:Events for Professional Institute of Technology and Accounting
REFRESH-INTERVAL;VALUE=DURATION:PT1H
X-Robots-Tag:noindex
X-PUBLISHED-TTL:PT1H
BEGIN:VTIMEZONE
TZID:UTC
BEGIN:STANDARD
TZOFFSETFROM:+0000
TZOFFSETTO:+0000
TZNAME:UTC
DTSTART:20230101T000000
END:STANDARD
END:VTIMEZONE
BEGIN:VEVENT
DTSTART;TZID=UTC:20240607T100000
DTEND;TZID=UTC:20240607T130000
DTSTAMP:20260422T172704
CREATED:20240504T202608Z
LAST-MODIFIED:20240504T202608Z
UID:3721-1717754400-1717765200@nvpita.com
SUMMARY:Free Computer Workshop
DESCRIPTION:Workshop for Beginners \nLearn the following… \n\nWindows Desktop\nOpening Apps\nWeb Fundamentals\nSample Word & Excel\nJob Searching\nAnd More!!!
URL:https://nvpita.com/calendar/free-computer-workshop-2/
LOCATION:Professional Institute of Technology\, Inc.\, 2625 S RAINBOW BLVD\, Las Vegas\, NV\, 89146\, United States
ATTACH;FMTTYPE=image/jpeg:https://nvpita.com/wp-content/uploads/2024/04/Image-9-scaled-e1713726500184.jpg
END:VEVENT
BEGIN:VEVENT
DTSTART;TZID=UTC:20240517T100000
DTEND;TZID=UTC:20240517T130000
DTSTAMP:20260422T172704
CREATED:20240421T190046Z
LAST-MODIFIED:20240421T193132Z
UID:3677-1715940000-1715950800@nvpita.com
SUMMARY:Free Computer Workshop
DESCRIPTION:Workshop for Beginners \nLearn the following… \n\nWindows Desktop\nOpening Apps\nWeb Fundamentals\nSample Word & Excel\nJob Searching\nAnd More!!!
URL:https://nvpita.com/calendar/free-computer-workshop/
LOCATION:Professional Institute of Technology\, Inc.\, 2625 S RAINBOW BLVD\, Las Vegas\, NV\, 89146\, United States
ATTACH;FMTTYPE=image/jpeg:https://nvpita.com/wp-content/uploads/2024/04/Image-9-scaled-e1713726500184.jpg
END:VEVENT
END:VCALENDAR